BEGIN:VCALENDAR
VERSION:2.0
PRODID:-//hacksw/handcal//NONSGML v1.0//EN
BEGIN:VEVENT
SUMMARY:Esperance /2 Printemps (Finale nationale)
UID:12fd5947-d32f-47fe-81eb-c1889848ed5a
DTSTART:20260411T220000Z
DTEND:20260412T220000Z
LOCATION:Localisation   
CATEGORIES:Sportif
STATUS:
URL;VALUE=URI:https://comitebasnormand.club.ffbridge.fr/evenements/2026/04/12/esperance-2-printemps-finale-nationale-2438283
END:VEVENT
END:VCALENDAR
