BEGIN:VCALENDAR
VERSION:2.0
PRODID:-//hacksw/handcal//NONSGML v1.0//EN
BEGIN:VEVENT
SUMMARY:Interclubs D1 - Finale de Comite
UID:ebe60812-4c97-4548-ab68-c09f4d5bad6a
DTSTART:20260220T230000Z
DTEND:20260222T230000Z
LOCATION:Localisation   
CATEGORIES:Sportif
STATUS:
URL;VALUE=URI:https://comitebasnormand.club.ffbridge.fr/evenements/2026/02/21/interclubs-d1-finale-de-comite-2411463
END:VEVENT
END:VCALENDAR
